BEGIN:VCALENDAR
VERSION:2.0
PRODID:-//AREQ secteur Charlevoix - ECPv5.14.0.4//NONSGML v1.0//EN
CALSCALE:GREGORIAN
METHOD:PUBLISH
X-WR-CALNAME:AREQ secteur Charlevoix
X-ORIGINAL-URL:https://charlevoix.areq.lacsq.org
X-WR-CALDESC:évènements pour AREQ secteur Charlevoix
BEGIN:VTIMEZONE
TZID:America/New_York
BEGIN:DAYLIGHT
TZOFFSETFROM:-0500
TZOFFSETTO:-0400
TZNAME:EDT
DTSTART:20240310T070000
END:DAYLIGHT
BEGIN:STANDARD
TZOFFSETFROM:-0400
TZOFFSETTO:-0500
TZNAME:EST
DTSTART:20241103T060000
END:STANDARD
END:VTIMEZONE
BEGIN:VEVENT
DTSTART;TZID=America/New_York:20241009T090000
DTEND;TZID=America/New_York:20241009T160000
DTSTAMP:20260421T083809
CREATED:20240607T135812Z
LAST-MODIFIED:20240607T135812Z
UID:3337-1728464400-1728489600@charlevoix.areq.lacsq.org
SUMMARY:Activité  Régionale Sociopolitique 2024
DESCRIPTION:Cliquer pour le document avec image \n  \nActivité  Régionale Sociopolitique \n  \nVous êtes invités à l’activité régionale organisée par le comité régional sociopolitique. Cette rencontre se veut un retour à l’être humain dans ses rapports avec les autres. \n  \n1e conférence Biais cognitifs : Notre cerveau nous joue des tours!  \n  \nEst-ce que c’est grave? Quel impact sur notre vie quotidienne? \nEst-il possible que notre cerveau nous joue des tours? Est-il parfois (souvent?) paresseux? Sommes-nous un peu moins brillants que nous le pensons? \nIsabelle Blanchette est professeure titulaire à l’Université Laval\, spécialisée en psychologie cognitive\, et chercheuse au centre de recherche Cervo\, à Québec. Isabelle Blanchette est passionnée par la psychologie cognitive\, une branche de la psychologie qui vise à comprendre comment le cerveau traite l’information\, apprend et utilise les connaissances. \n  \n  \n2e conférence Âgisme : La représentation des aînés dans \n la culture populaire avec Samuel Labrecque \n  \nConseiller aux dossiers sociaux Samuel Labrecque dispose d’une solide \nexpérience dans le milieu des organismes dédiés aux aînés. \nSamuel occupe la fonction de conseiller aux dossiers sociaux lesquels traitent notamment des enjeux liés à l’avenir du système de santé public\, à l’hébergement des personnes aînées et aux politiques gouvernementales touchant les personnes aînées. \n  \nEn après-midi \nLe rire\, joie et santé avec Linda Leclerc \nTrucs pratiques pour prendre les choses avec bonne humeur et \ndédramatiser les situations du quotidien\, pour soulager stress et anxiété et rester dans le moment présent. \nC’est une excellente façon de prendre soin de sa santé mentale\, de \ndévelopper la complicité entre les personnes et de permettre un moment de détente « santé et positif ». \n  \nDate Mercredi le 9 octobre 2024                               9:00    Inscription \n  \nLieu L’Hôtel-Québec                                                  9:30 Début de la rencontre \n3155\, avenue des Hôtels \n  \nCoûts 20 $/membre \n40 $/non-membre \n  \n\n\n\n               Date de fin de l’inscription : 27 septembre 2024\n\n\n\n  \nInscription auprès de madame Ginette Perron\,  \nresponsable sociopolitique de l’AREQ-03H :  Tél : 418-435-3270 \n 
URL:https://charlevoix.areq.lacsq.org/event/activite-regionale-sociopolitique-2024/
LOCATION:Hôtel Québec\, 3115 Avenue des Hôtels\, Québec
END:VEVENT
END:VCALENDAR