BEGIN:VCALENDAR
VERSION:2.0
PRODID:-//AREQ secteur Charlevoix - ECPv5.14.0.4//NONSGML v1.0//EN
CALSCALE:GREGORIAN
METHOD:PUBLISH
X-WR-CALNAME:AREQ secteur Charlevoix
X-ORIGINAL-URL:https://charlevoix.areq.lacsq.org
X-WR-CALDESC:évènements pour AREQ secteur Charlevoix
BEGIN:VTIMEZONE
TZID:America/New_York
BEGIN:DAYLIGHT
TZOFFSETFROM:-0500
TZOFFSETTO:-0400
TZNAME:EDT
DTSTART:20240310T070000
END:DAYLIGHT
BEGIN:STANDARD
TZOFFSETFROM:-0400
TZOFFSETTO:-0500
TZNAME:EST
DTSTART:20241103T060000
END:STANDARD
END:VTIMEZONE
BEGIN:VEVENT
DTSTART;TZID=America/New_York:20241001T073000
DTEND;TZID=America/New_York:20241001T170000
DTSTAMP:20260421T064821
CREATED:20240903T152104Z
LAST-MODIFIED:20240903T152715Z
UID:3418-1727767800-1727802000@charlevoix.areq.lacsq.org
SUMMARY:Marche citoyenne « Agissons ensemble pour le mieux-être des aîné·es » à Québec
DESCRIPTION:L’AREQ est le présentateur officiel de la grande marche citoyenne « Agissons ensemble pour le mieux-être des aîné·es » de Québec\, qui se tiendra le 1er octobre prochain\, simultanément avec celle de Montréal. \n  \nIl s’agit d’une belle vitrine pour promouvoir un vieillissement actif et positif en combattant les stéréotypes d’immobilité. \n  \nPour l’instant\, nous n’avons pas plus de détails à vous donner\, mais le secteur à l’intention d’y participer.  \n  \nNous aimerions retenir un autobus pour nous rendre au centre-ville de Québec afin de rejoindre les autres secteurs participants. Si cela vous intéresse\, nous apprécierions que vous communiquiez votre intérêt à Linda Lavoie\, areq03h@gmail.com   \n  \nPar la suite\, nous vous ferons connaître plus en détail le déroulement de cet événement.
URL:https://charlevoix.areq.lacsq.org/event/marche-citoyenne-agissons-ensemble-pour-le-mieux-etre-des-aine%c2%b7es/
END:VEVENT
END:VCALENDAR